Workbook

Sheet Kap.01
H2: Příloha č. 3 usnesení č. Usn ZMC 00x/2020
H3: Zastupitelstva městské části Praha 8
H4: ze dne 17. června 2020
A5: Plnění rozpočtu městské části Praha 8 za rok 2019
A7: Běžné (neinvestiční) a kapitálové (investiční) výdaje
A8: vlastního hospodaření městské části Praha 8 a příspěvkových právnických osob (organizací)
A9: zřízených Městskou částí Praha 8
A10: (v tis. Kč)
A11: Kapitola 01 – rozvoj obce | I11: str. 1/16
A12: Organiz. | B12: Číslo | C12: Název organizace, | E12: Schválený | F12: Rozpočet | G12: Skutečnost | H12: Plnění | I12: Plnění
A13: jednotka | B13: organizace | C13: činnosti | D13: Rozpočtová skladba (oddíl, §) | E13: rozpočet (SR) | F13: po změnách (RZ) | G13: k | H13: k SR | I13: k RZ
A14: (ORJ) | B14: (ORG) | E14: na rok 2019 | F14: k 31.12.2019 | G14: 43830 | H14: v % | I14: v %
A15: Běžné výdaje:
A16: 0127 | B16: odbor evropských fondů ÚMČ | E16: =SUM(E17:E17) -> 200 | F16: =SUM(F17:F17) -> 200 | G16: =SUM(G17:G17) -> 0 | H16: =G16/E16*100 -> 0 | I16: =G16/F16*100 -> 0
C17: zpracování studií a žádostí na projekty financované z fondu EU | D17: 3635 - územní plánování | E17: 200 | F17: 200 | G17: 0 | H17: =G17/E17*100 -> 0 | I17: =G17/F17*100 -> 0
A19: 0105 | B19: odbor územního rozvoje a výstavby ÚMČ | E19: =SUM(E20:E22) -> 600 | F19: =SUM(F20:F22) -> 600 | G19: =SUM(G20:G22) -> 399 | H19: =G19/E19*100 -> 66.5 | I19: =G19/F19*100 -> 66.5
C20: výkony rozhodnutí | D20: 3635 - územní plánování | E20: 100 | F20: 30 | G20: 0 | H20: =G20/E20*100 -> 0 | I20: =G20/F20*100 -> 0
C21: znalecké posudky | D21: 3635 - územní plánování | E21: 500 | F21: 500 | G21: 329 | H21: =G21/E21*100 -> 65.8 | I21: =G21/F21*100 -> 65.8
C22: poskytnuté náhrady | D22: 3636 - územní plánování | E22: 0 | F22: 70 | G22: 70 | H22: x | I22: =G22/F22*100 -> 100
A24: 0105 | B24: odbor územního rozvoje a výstavby ÚMČ | E24: =SUM(E26:E26) -> 772 | F24: =F26 -> 1782.3 | G24: =SUM(G26:G26) -> 1738 | H24: =G24/E24*100 -> 225.12953 | I24: =G24/F24*100 -> 97.514448
C25: oddělení plánování a rozvoje
C26: zpracování urbanistické studie a strategických vizí | D26: 3635 - územní plánování | E26: 772 | F26: 1782.3 | G26: 1738 | H26: =G26/E26*100 -> 225.12953 | I26: =G26/F26*100 -> 97.514448
A27: Běžné výdaje celkem | E27: =E19+E16+E24 -> 1572 | F27: =F19+F16+F24 -> 2582.3 | G27: =G19+G16+G24 -> 2137 | H27: =G27/E27*100 -> 135.94148 | I27: =G27/F27*100 -> 82.755683
A30: Organiz. | B30: Číslo | C30: Název organizace, | E30: Schválený | F30: Rozpočet | G30: Skutečnost | H30: Plnění | I30: Plnění
A31: jednotka | B31: organizace | C31: činnosti | D31: Rozpočtová skladba (oddíl, §) | E31: rozpočet (SR) | F31: po změnách (RZ) | G31: k | H31: k SR | I31: k RZ
A32: (ORJ) | B32: (ORG) | E32: na rok 2019 | F32: =F14 -> k 31.12.2019 | G32: =G14 -> 43830 | H32: v % | I32: v %
A33: Kapitálové výdaje:
A34: 0127 | B34: odbor evropských fondů ÚMČ | E34: =SUM(E35:E40) -> 180 | F34: =SUM(F35:F40) -> 180 | G34: =SUM(G35:G40) -> 104 | H34: =G34/E34*100 -> 57.777778 | I34: =G34/F34*100 -> 57.777778
C35: MŠ Korycanská - snížení energetické náročnosti | D35: 3111 - mateřské školy | E35: 30 | F35: 30 | G35: 0 | H35: =G35/E35*100 -> 0 | I35: =G35/F35*100 -> 0
C36: MŠ Řešovská - snížení energetické náročnosti | D36: 3111 - mateřské školy | E36: 30 | F36: 30 | G36: 0 | H36: =G36/E36*100 -> 0 | I36: =G36/F36*100 -> 0
C37: MŠ Sokolovská - snížení energetické náročnosti | D37: 3111 - mateřské školy | E37: 30 | F37: 30 | G37: 21 | H37: =G37/E37*100 -> 70 | I37: =G37/F37*100 -> 70
C38: MŠ U Školské zahrady - snížení energetické náročnosti | D38: 3111 - mateřské školy | E38: 30 | F38: 25 | G38: 21 | H38: =G38/E38*100 -> 70 | I38: =G38/F38*100 -> 84
C39: MŠ U Sluncové - snížení energetické náročnosti | D39: 3111 - mateřské školy | E39: 30 | F39: 32.5 | G39: 31 | H39: =G39/E39*100 -> 103.33333 | I39: =G39/F39*100 -> 95.384615
C40: MŠ Chabařovická - snížení energetické náročnosti | D40: 3111 - mateřské školy | E40: 30 | F40: 32.5 | G40: 31 | H40: =G40/E40*100 -> 103.33333 | I40: =G40/F40*100 -> 95.384615
A42: 0105 | B42: odbor kancelář starosty ÚMČ | E42: =SUM(E44) -> 2026 | F42: =SUM(F44) -> 1058 | G42: =SUM(G44) -> 249 | H42: =G42/E42*100 -> 12.290227 | I42: =G42/F42*100 -> 23.534972
C43: oddělení plánování a rozvoje
C44: Palmovka | D44: 3635 - územní plánování | E44: 2026 | F44: 1058 | G44: 249 | H44: =G44/E44*100 -> 12.290227 | I44: =G44/F44*100 -> 23.534972
A45: Kapitálové výdaje celkem | E45: =E34+E42 -> 2206 | F45: =F34+F42 -> 1238 | G45: =G34+G42 -> 353 | H45: =G45/E45*100 -> 16.001813 | I45: =G45/F45*100 -> 28.513732
A47: Kapitola 01 - rozvoj obce celkem | E47: =E27+E45 -> 3778 | F47: =F27+F45 -> 3820.3 | G47: =G27+G45 -> 2490 | H47: =G47/E47*100 -> 65.907888 | I47: =G47/F47*100 -> 65.178127

Sheet Kap.02
A2: Kapitola 02 – městská infrastruktura
I3: str. 2/16
A4: Organiz. | B4: Číslo | C4: Název organizace, | E4: Schválený | F4: Rozpočet | G4: Skutečnost | H4: Plnění | I4: Plnění
A5: jednotka | B5: organizace | C5: činnosti | D5: Rozpočtová skladba (oddíl, §) | E5: rozpočet (SR) | F5: po změnách (RZ) | G5: k | H5: k SR | I5: k RZ
A6: (ORJ) | B6: (ORG) | E6: na rok 2019 | F6: =Kap.01!F14 -> k 31.12.2019 | G6: =Kap.01!G14 -> 43830 | H6: v % | I6: v %
A7: Běžné výdaje:
A8: 0202 | B8: odbor životního prostředí ÚMČ | E8: =SUM(E9+E10+E11+E12+E13+E14+E15+E16) -> 83108 | F8: =SUM(F9+F10+F11+F12+F13+F14+F15+F16) -> 89921.6 | G8: =SUM(G9+G10+G11+G12+G13+G14+G15+G16) -> 79662 | H8: =G8/E8*100 -> 95.853588 | I8: =G8/F8*100 -> 88.590506
C9: kontejnerová služba | D9: 3722 - sběr a svoz komunálních odpadů | E9: 13650 | F9: 7850 | G9: 7527 | H9: =G9/E9*100 -> 55.142857 | I9: =G9/F9*100 -> 95.88535
C10: úklid exkrementů | D10: 3723 - sběr a svoz ostatních odpadů | E10: 4500 | F10: 1800 | G10: 1430 | H10: =G10/E10*100 -> 31.777778 | I10: =G10/F10*100 -> 79.444444
C11: provoz odpadkových košů na psí exkrementy | D11: 3723 - sběr a svoz ostatních odpadů | E11: 2000 | F11: 2000 | G11: 1908 | H11: =G11/E11*100 -> 95.4 | I11: =G11/F11*100 -> 95.4
C12: činnost odboru | D12: 3749 - ostatní činnosti k ochraně přírody a krajiny | E12: 1260 | F12: 1010 | G12: 584 | H12: =G12/E12*100 -> 46.349206 | I12: =G12/F12*100 -> 57.821782
C13: veřejná zeleň | D13: 3745 - péče o vzhled obcí a veřejnou zeleň | E13: 52248 | F13: 64130.7 | G13: 57790 | H13: =G13/E13*100 -> 110.6071 | I13: =G13/F13*100 -> 90.112848
C14: zimní údržba pěších cest | D14: 2219 - ostatní záležitosti pozemních komunikací | E14: 6300 | F14: 6300 | G14: 3935 | H14: =G14/E14*100 -> 62.460317 | I14: =G14/F14*100 -> 62.460317
C15: údržba dětských hřišť a sportovišť | D15: 3421 - využití volného času dětí a mládeže | E15: 3150 | F15: 3150 | G15: 2874 | H15: =G15/E15*100 -> 91.238095 | I15: =G15/F15*100 -> 91.238095
C16: čištění komunikací | D16: 2212 - silnice | E16: 0 | F16: 3680.9 | G16: 3614 | H16: x | I16: =G16/F16*100 -> 98.18251
A17: Běžné výdaje celkem | E17: =E8 -> 83108 | F17: =F8 -> 89921.6 | G17: =G8 -> 79662 | H17: =G17/E17*100 -> 95.853588 | I17: =G17/F17*100 -> 88.590506
A20: Organiz. | B20: Číslo | C20: Název organizace, | E20: Schválený | F20: Rozpočet | G20: Skutečnost | H20: Plnění | I20: Plnění
A21: jednotka | B21: organizace | C21: činnosti | D21: Rozpočtová skladba (oddíl, §) | E21: rozpočet (SR) | F21: po změnách (RZ) | G21: k | H21: k SR | I21: k RZ
A22: (ORJ) | B22: (ORG) | E22: na rok 2019 | F22: =Kap.01!F14 -> k 31.12.2019 | G22: =Kap.01!G14 -> 43830 | H22: v % | I22: v %
A23: Kapitálové výdaje:
A24: 0202 | B24: odbor životního prostředí ÚMČ | E24: =SUM(E25:E46) -> 27886 | F24: =SUM(F25:F46) -> 32290 | G24: =SUM(G25:G46) -> 20877 | H24: =G24/E24*100 -> 74.865524 | I24: =G24/F24*100 -> 64.654692
C25: Revitalizace nám. Krynická a Pomořanská - studie a PD | D25: 3745 - péče o vzhled obcí a veřejnou zeleň | E25: 420 | F25: 420 | G25: 0 | H25: =G25/E25*100 -> 0 | I25: =G25/F25*100 -> 0
C26: Výstavba podzemních kontejnerů - II. etapa - PD | D26: 3745 - péče o vzhled obcí a veřejnou zeleň | E26: 180 | F26: 180 | G26: 26 | H26: =G26/E26*100 -> 14.444444 | I26: =G26/F26*100 -> 14.444444
C27: Florenc - revitalizace zelených ploch u metra - studie a PD | D27: 3745 - péče o vzhled obcí a veřejnou zeleň | E27: 1339 | F27: 1330.5 | G27: 0 | H27: =G27/E27*100 -> 0 | I27: =G27/F27*100 -> 0
C28: Revitalizace ploch malého rozsahu vč. PD | D28: 3745 - péče o vzhled obcí a veřejnou zeleň | E28: 2480 | F28: 2434.5 | G28: 281 | H28: =G28/E28*100 -> 11.330645 | I28: =G28/F28*100 -> 11.542411
C29: Podzemní kontejnery - I. etapa - spoluúčast | D29: 3745 - péče o vzhled obcí a veřejnou zeleň | E29: 13500 | F29: 13500 | G29: 11896 | H29: =G29/E29*100 -> 88.118519 | I29: =G29/F29*100 -> 88.118519
C30: Revitalizace sídliště Střížkov - PD | D30: 3745 - péče o vzhled obcí a veřejnou zeleň | E30: 130 | F30: 130 | G30: 0 | H30: =G30/E30*100 -> 0 | I30: =G30/F30*100 -> 0
C31: Psí louka Rokytka | D31: 3745 - péče o vzhled obcí a veřejnou zeleň | E31: 43 | F31: 43 | G31: 0 | H31: =G31/E31*100 -> 0 | I31: =G31/F31*100 -> 0
C32: Rekonstrukce pěších cest Rokytka | D32: 3745 - péče o vzhled obcí a veřejnou zeleň | E32: 61 | F32: 106.5 | G32: 76 | H32: =G32/E32*100 -> 124.59016 | I32: =G32/F32*100 -> 71.361502
C33: Výstavba hřiště Kaňkovského vč. PD | D33: 3745 - péče o vzhled obcí a veřejnou zeleň | E33: 19 | F33: 19 | G33: 0 | H33: =G33/E33*100 -> 0 | I33: =G33/F33*100 -> 0
C34: Výstavba parku s volným pohybem psů Karlín | D34: 3745 - péče o vzhled obcí a veřejnou zeleň | E34: 90 | F34: 98.5 | G34: 98 | H34: =G34/E34*100 -> 108.88889 | I34: =G34/F34*100 -> 99.492386
C35: Rekonstrukce schodů v parku Pod Korábem | D35: 3745 - péče o vzhled obcí a veřejnou zeleň | E35: 7 | F35: 7 | G35: 6 | H35: =G35/E35*100 -> 85.714286 | I35: =G35/F35*100 -> 85.714286
C36: Stavební úpravy domovního vstupu – ul. Krynická | D36: 3745 - péče o vzhled obcí a veřejnou zeleň | E36: 4080 | F36: 4080 | G36: 4011 | H36: =G36/E36*100 -> 98.308824 | I36: =G36/F36*100 -> 98.308824
... C41: Přestavba multifunkčního sportoviště u ZŠ Na Korábě | D41: 3745 - péče o vzhled obcí a veřejnou zeleň | E41: 3050 | F41: 3050 | G41: 0 | H41: =G41/E41*100 -> 0 | I41: =G41/F41*100 -> 0
C42: Úprava pěších cest v Thomayerových sadech | D42: 3745 - péče o vzhled obcí a veřejnou zeleň | E42: 0 | F42: 236.7 | G42: 0 | H42: x | I42: =G42/F42*100 -> 0
C43: Revitalizace veřejných prostor Palmovka | D43: 3745 - péče o vzhled obcí a veřejnou zeleň | E43: 0 | F43: 4000 | G43: 2123 | H43: x | I43: =G43/F43*100 -> 53.075
C44: Dodání a umíst. pítka na psí louce v ul. Famfulíkova | D44: 3745 - péče o vzhled obcí a veřejnou zeleň | E44: 0 | F44: 59.5 | G44: 59 | H44: x | I44: =G44/F44*100 -> 99.159664
C45: Umístění hydrantu a reko. odběrného místa ul. Famf | D45: 3745 - péče o vzhled obcí a veřejnou zeleň | E45: 0 | F45: 59.2 | G45: 59 | H45: x | I45: =G45/F45*100 -> 99.662162
C46: Vybudování oplocení v ulici Zhořelecká a Ratibořská | D46: 3745 - péče o vzhled obcí a veřejnou zeleň | E46: 0 | F46: 48.6 | G46: 47 | H46: x | I46: =G46/F46*100 -> 96.707819
A47: 0231 | B47: odbor kancelář starosty ÚMČ | E47: =SUM(E48) -> 1098 | F47: =SUM(F48) -> 5630.2 | G47: =SUM(G48) -> 130 | H47: =G47/E47*100 -> 11.839709 | I47: =G47/F47*100 -> 2.3089766
C48: Revitalizace třešňového sadu v ul. Na Truhlářce na Bílé skále | D48: 3745 - péče o vzhled obcí a veřejnou zeleň | E48: 1098 | F48: 5630.2 | G48: 130 | H48: =G48/E48*100 -> 11.839709 | I48: =G48/F48*100 -> 2.3089766
A49: Kapitálové výdaje celkem | E49: =E24+E47 -> 28984 | F49: =F24+F47 -> 37920.2 | G49: =G24+G47 -> 21007 | H49: =G49/E49*100 -> 72.477919 | I49: =G49/F49*100 -> 55.397915
A51: Kapitola 02 - městská infrastruktura celkem | E51: =E17+E49 -> 112092 | F51: =F17+F49 -> 127841.8 | G51: =G17+G49 -> 100669 | H51: =G51/E51*100 -> 89.809264 | I51: =G51/F51*100 -> 78.74498

Sheet Kap. 03
A2: Kapitola 03 – doprava
I3: str. 3/16
A4: Organiz. | B4: Číslo | C4: Název organizace, | E4: Schválený | F4: Rozpočet | G4: Skutečnost | H4: Plnění | I4: Plnění
A5: jednotka | B5: organizace | C5: činnosti | D5: Rozpočtová skladba (oddíl, §) | E5: rozpočet (SR) | F5: po změnách (RZ) | G5: k | H5: k SR | I5: k RZ
A6: (ORJ) | B6: (ORG) | E6: na rok 2019 | F6: =Kap.01!F14 -> k 31.12.2019 | G6: =Kap.01!G14 -> 43830 | H6: v % | I6: v %
A7: Běžné výdaje:
A8: 0319 | B8: odbor dopravy ÚMČ | E8: =SUM(E9+E10+E11+E12+E13) -> 8400 | F8: =SUM(F9+F10+F11+F12+F13) -> 5486.1 | G8: =SUM(G9+G10+G11+G12+G13) -> 3298 | H8: =G8/E8*100 -> 39.261905 | I8: =G8/F8*100 -> 60.115565
C9: čištění komunikací nad rámec TSK | D9: 2212 - silnice | E9: 7000 | F9: 2757.4 | G9: 2757 | H9: =G9/E9*100 -> 39.385714 | I9: =G9/F9*100 -> 99.985494
C10: činnost odboru | D10: 2219 - ost. záležitosti pozemních komunikací | E10: 200 | F10: 179.4 | G10: =9+63 -> 72 | H10: =G10/E10*100 -> 36 | I10: =G10/F10*100 -> 40.133779
C11: analýzy dopravy | D11: 2219 - ost. záležitosti pozemních komunikací | E11: 1000 | F11: =2317.2+11.5 -> 2328.7 | G11: =347+11 -> 358 | H11: =G11/E11*100 -> 35.8 | I11: =G11/F11*100 -> 15.373384
C12: zóny placeného stání (platební terminály) | D12: 2219 - ost. záležitosti pozemních komunikací | E12: 200 | F12: 200 | G12: 91 | H12: =G12/E12*100 -> 45.5 | I12: =G12/F12*100 -> 45.5
C13: poskytnuté náhrady | D13: 2219 - ost. záležitosti pozemních komunikací | E13: 0 | F13: 20.6 | G13: 20 | H13: x | I13: =G13/F13*100 -> 97.087379
A14: Běžné výdaje celkem | E14: =E8 -> 8400 | F14: =F8 -> 5486.1 | G14: =G8 -> 3298 | H14: =G14/E14*100 -> 39.261905 | I14: =G14/F14*100 -> 60.115565
A17: Organiz. | B17: Číslo | C17: Název organizace, | E17: Schválený | F17: Rozpočet | G17: Skutečnost | H17: Plnění | I17: Plnění
A18: jednotka | B18: organizace | C18: činnosti | D18: Rozpočtová skladba (oddíl, §) | E18: rozpočet (SR) | F18: po změnách (RZ) | G18: k | H18: k SR | I18: k RZ
A19: (ORJ) | B19: (ORG) | E19: na rok 2019 | F19: =Kap.01!F14 -> k 31.12.2019 | G19: =Kap.01!G14 -> 43830 | H19: v % | I19: v %
A20: Kapitálové výdaje:
A21: 0304 | B21: odbor správy majetku ÚMČ | E21: =SUM(E22) -> 4270 | F21: =SUM(F22) -> 13770 | G21: =SUM(G22) -> 13683 | H21: =G21/E21*100 -> 320.44496 | I21: =G21/F21*100 -> 99.368192
C22: Úprava parkovací plochy u polikliniky Mazurská | D22: 2219 - ost. záležitosti pozemních komunikací | E22: 4270 | F22: 13770 | G22: 13683 | H22: =G22/E22*100 -> 320.44496 | I22: =G22/F22*100 -> 99.368192
A23: 0319 | B23: odbor dopravy ÚMČ | E23: =SUM(E24:E28) -> 8783 | F23: =SUM(F24:F28) -> 8783 | G23: =SUM(G24:G28) -> 655 | H23: =G23/E23*100 -> 7.4575885 | I23: =G23/F23*100 -> 7.4575885
C24: PD - úprava bezmotorové komunikace A2 a A26 | D24: 2219 - ost. záležitosti pozemních komunikací | E24: 850 | F24: 850 | G24: 155 | H24: =G24/E24*100 -> 18.235294 | I24: =G24/F24*100 -> 18.235294
C25: PD - úprava bezmotorové komunikace A2 | D25: 2219 - ost. záležitosti pozemních komunikací | E25: 100 | F25: 100 | G25: 0 | H25: =G25/E25*100 -> 0 | I25: =G25/F25*100 -> 0
C26: PD - úprava bezmotorové komunikace Šaldova - Negrelliho viadukt | D26: 2219 - ost. záležitosti pozemních komunikací | E26: 730 | F26: 730 | G26: 370 | H26: =G26/E26*100 -> 50.684932 | I26: =G26/F26*100 -> 50.684932
C27: PD - vybud. parkovacích stání v ul. Famfulíkova, Eledrova, Řešovská | D27: 2219 - ost. záležitosti pozemních komunikací | E27: 1200 | F27: 1200 | G27: 130 | H27: =G27/E27*100 -> 10.833333 | I27: =G27/F27*100 -> 10.833333
C28: Vybudování bezmotorové komunikace A2 - Lib.most až Šaldova | D28: 2219 - ost. záležitosti pozemních komunikací | E28: 5903 | F28: 5903 | G28: 0 | H28: =G28/E28*100 -> 0 | I28: =G28/F28*100 -> 0
A29: Kapitálové výdaje celkem | E29: =E21+E23 -> 13053 | F29: =F21+F23 -> 22553 | G29: =G21+G23 -> 14338 | H29: =G29/E29*100 -> 109.84448 | I29: =G29/F29*100 -> 63.574691
A31: Kapitola 03 - doprava celkem | E31: =E14+E29 -> 21453 | F31: =F14+F29 -> 28039.1 | G31: =G14+G29 -> 17636 | H31: =G31/E31*100 -> 82.207617 | I31: =G31/F31*100 -> 62.897882

Sheet Kap. 04
A2: Kapitola 04 – školství, mládež a sport
I3: str. 4/16
A4: Organiz. | B4: Číslo | C4: Název organizace, | E4: Schválený | F4: Rozpočet | G4: Skutečnost | H4: Plnění | I4: Plnění
A5: jednotka | B5: organizace | C5: činnosti | D5: Rozpočtová skladba (oddíl, §) | E5: rozpočet (SR) | F5: po změnách (RZ) | G5: k | H5: k SR | I5: k RZ
A6: (ORJ) | B6: (ORG) | E6: na rok 2019 | F6: =Kap.01!F14 -> k 31.12.2019 | G6: =Kap.01!G14 -> 43830 | H6: v % | I6: v %
A7: Běžné výdaje:
A8: 0414 | B8: odbor školství ÚMČ | E8: =E9+E75+E145+E149+E152 -> 180728 | F8: =F9+F75+F145+F149+F152 -> 277531.3 | G8: =G9+G75+G145+G149+G152 -> 274317 | H8: =G8/E8*100 -> 151.78445 | I8: =G8/F8*100 -> 98.841824
C9: MŠ s právní subjektivitou | E9: =E10+E14+E17+E20+E23+E26+E29+E32+E35+E39+E42+E45+E48+E57+E60+E64+E67+E71 -> 31751 | F9: =F10+F14+F17+F20+F23+F26+F29+F32+F35+F39+F42+F45+F48+F57+F60+F64+F67+F71 -> 46616.4 | G9: =G10+G14+G17+G20+G23+G26+G29+G32+G35+G39+G42+G45+G48+G57+G60+G64+G67+G71 -> 46616 | H9: =G9/E9*100 -> 146.81742 | I9: =G9/F9*100 -> 99.999142
B10: 101 | C10: MŠ Korycanská | D10: 3111 - předškolní zařízení | E10: 4415 | F10: =4465+898.2 -> 5363.2 | G10: 5363 | H10: =G10/E10*100 -> 121.47225 | I10: =G10/F10*100 -> 99.996271
C11: z toho: příspěvek na energie vč. platů topičů, vodné a stočné | E11: 1494 | F11: 1494 | G11: 1494 | H11: =G11/E11*100 -> 100 | I11: =G11/F11*100 -> 100
C12: platy a odvody | E12: 1800 | F12: 1800 | G12: 1800 | H12: =G12/E12*100 -> 100 | I12: =G12/F12*100 -> 100
C13: odpisy | E13: 171 | F13: 171 | G13: 171 | H13: =G13/E13*100 -> 100 | I13: =G13/F13*100 -> 100
B14: 102 | C14: MŠ Sokolovská | D14: 3111 - předškolní zařízení | E14: 1318 | F14: =1318+622.7+611.6 -> 2552.3 | G14: 2552 | H14: =G14/E14*100 -> 193.62671 | I14: =G14/F14*100 -> 99.988246
C15: z toho: příspěvek na energie vč. platů topičů, vodné a stočné | E15: 708 | F15: 708 | G15: 708 | H15: =G15/E15*100 -> 100 | I15: =G15/F15*100 -> 100
C16: odpisy | E16: 82 | F16: 82 | G16: 82 | H16: =G16/E16*100 -> 100 | I16: =G16/F16*100 -> 100
B17: 104 | C17: MŠ Bojasova | D17: 3111 - předškolní zařízení | E17: 1818 | F17: =1830+988.4 -> 2818.4 | G17: 2818 | H17: =G17/E17*100 -> 155.0055 | I17: =G17/F17*100 -> 99.985808
C18: z toho: příspěvek na energie vč. platů topičů, vodné a stočné | E18: 865 | F18: 865 | G18: 865 | H18: =G18/E18*100 -> 100 | I18: =G18/F18*100 -> 100
C19: odpisy | E19: 109 | F19: 109 | G19: 109 | H19: =G19/E19*100 -> 100 | I19: =G19/F19*100 -> 100
B20: 105 | C20: MŠ U Sluncové | D20: 3111 - předškolní zařízení | E20: 1492 | F20: =1522+453.9 -> 1975.9 | G20: =1976 -> 1976 | H20: =G20/E20*100 -> 132.43968 | I20: =G20/F20*100 -> 100.00506
C21: z toho: příspěvek na energie vč. platů topičů, vodné a stočné | E21: 875 | F21: 875 | G21: 875 | H21: =G21/E21*100 -> 100 | I21: =G21/F21*100 -> 100
C22: odpisy | E22: 195 | F22: 195 | G22: 195 | H22: =G22/E22*100 -> 100 | I22: =G22/F22*100 -> 100
B23: 106 | C23: MŠ Kotlaska | D23: 3111 - předškolní zařízení | E23: 1470 | F23: =1460+496+76.2+576.3+473 -> 3081.5 | G23: 3081 | H23: =G23/E23*100 -> 209.59184 | I23: =G23/F23*100 -> 99.983774
C24: z toho: příspěvek na energie vč. platů topičů, vodné a stočné | E24: 1018 | F24: 1018 | G24: 1018 | H24: =G24/E24*100 -> 100 | I24: =G24/F24*100 -> 100
C25: odpisy | E25: 29 | F25: 29 | G25: 29 | H25: =G25/E25*100 -> 100 | I25: =G25/F25*100 -> 100
B26: 107 | C26: MŠ Na Pěšinách | D26: 3111 - předškolní zařízení | E26: 1099 | F26: =1099+524.9 -> 1623.9 | G26: 1624 | H26: =G26/E26*100 -> 147.7707 | I26: =G26/F26*100 -> 100.00616
C27: z toho: příspěvek na energie vč. platů topičů, vodné a stočné | E27: 619 | F27: 619 | G27: 619 | H27: =G27/E27*100 -> 100 | I27: =G27/F27*100 -> 100
C28: odpisy | E28: 58 | F28: 58 | G28: 58 | H28: =G28/E28*100 -> 100 | I28: =G28/F28*100 -> 100
B29: 108 | C29: MŠ Šiškova | D29: 3111 - předškolní zařízení | E29: 2129 | F29: =2034+922.2 -> 2956.2 | G29: 2956 | H29: =G29/E29*100 -> 138.84453 | I29: =G29/F29*100 -> 99.993235
C30: z toho: příspěvek na energie vč. platů topičů, vodné a stočné | E30: 1137 | F30: 1137 | G30: 1137 | H30: =G30/E30*100 -> 100 | I30: =G30/F30*100 -> 100
C31: odpisy | E31: 148 | F31: 148 | G31: 148 | H31: =G31/E31*100 -> 100 | I31: =G31/F31*100 -> 100
B32: 109 | C32: MŠ Šimůnkova | D32: 3111 - předškolní zařízení | E32: 1450 | F32: =1532+661.8 -> 2193.8 | G32: =2194 -> 2194 | H32: =G32/E32*100 -> 151.31034 | I32: =G32/F32*100 -> 100.00912
C33: z toho: příspěvek na energie vč. platů topičů, vodné a stočné | E33: 808 | F33: 808 | G33: 808 | H33: =G33/E33*100 -> 100 | I33: =G33/F33*100 -> 100
C34: odpisy | E34: 114 | F34: 114 | G34: 114 | H34: =G34/E34*100 -> 100 | I34: =G34/F34*100 -> 100
B35: 110 | C35: MŠ Chabařovická | D35: 3111 - předškolní zařízení | E35: 1952 | F35: =1952+928.1+313 -> 3193.1 | G35: =3193 -> 3193 | H35: =G35/E35*100 -> 163.57582 | I35: =G35/F35*100 -> 99.996868
C36: z toho: příspěvek na energie vč. platů topičů, vodné a stočné | E36: 1210 | F36: 1210 | G36: 1210 | H36: =G36/E36*100 -> 100 | I36: =G36/F36*100 -> 100
C37: odpisy | E37: 109 | F37: 109 | G37: 109 | H37: =G37/E37*100 -> 100 | I37: =G37/F37*100 -> 100
C38: podpora inkluze v MŠ Chabařovická (OP PPR) | E38: 0 | F38: 313 | G38: 313 | H38: x | I38: =G38/F38*100 -> 100
B39: 111 | C39: MŠ Na Přesypu | D39: 3111 - předškolní zařízení | E39: 1508 | F39: =1568+608.5 -> 2176.5 | G39: 2176 | H39: =G39/E39*100 -> 144.29708 | I39: =G39/F39*100 -> 99.977027
C40: z toho: příspěvek na energie vč. platů topičů, vodné a stočné | E40: 625 | F40: 625 | G40: 625 | H40: =G40/E40*100 -> 100 | I40: =G40/F40*100 -> 100
C41: odpisy | E41: 461 | F41: 461 | G41: 461 | H41: =G41/E41*100 -> 100 | I41: =G41/F41*100 -> 100
B42: 112 | C42: MŠ Klíčanská | D42: 3111 - předškolní zařízení | E42: 1134 | F42: =1089+507.7 -> 1596.7 | G42: 1597 | H42: =G42/E42*100 -> 140.82892 | I42: =G42/F42*100 -> 100.01879
C43: z toho: příspěvek na energie vč. platů topičů, vodné a stočné | E43: 582 | F43: 582 | G43: 582 | H43: =G43/E43*100 -> 100 | I43: =G43/F43*100 -> 100
C44: odpisy | E44: 129 | F44: 129 | G44: 129 | H44: =G44/E44*100 -> 100 | I44: =G44/F44*100 -> 100
B45: 113 | C45: MŠ Poznaňská | D45: 3111 - předškolní zařízení | E45: 1772 | F45: =1798.5+672 -> 2470.5 | G45: 2471 | H45: =G45/E45*100 -> 139.44695 | I45: =G45/F45*100 -> 100.02024
C46: z toho: příspěvek na energie vč. platů topičů vodné a stočné | E46: 1064 | F46: 1064 | G46: 1064 | H46: =G46/E46*100 -> 100 | I46: =G46/F46*100 -> 100
C47: odpisy | E47: 180 | F47: 180 | G47: 180 | H47: =G47/E47*100 -> 100 | I47: =G47/F47*100 -> 100
B48: 114 | C48: MŠ Lešenská | D48: 3111 - předškolní zařízení | E48: 1273 | F48: =1521+554.2 -> 2075.2 | G48: 2075 | H48: =G48/E48*100 -> 163.00079 | I48: =G48/F48*100 -> 99.990362
C49: z toho: příspěvek na energie vč. platů topičů, vodné a stočné | E49: 771 | F49: 771 | G49: 771 | H49: =G49/E49*100 -> 100 | I49: =G49/F49*100 -> 100
C50: odpisy | E50: 80 | F50: 80 | G50: 80 | H50: =G50/E50*100 -> 100 | I50: =G50/F50*100 -> 100
I53: str. 5/16
A54: Organiz. | B54: Číslo | C54: Název organizace, | E54: Schválený | F54: Rozpočet | G54: Skutečnost | H54: Plnění | I54: Plnění
A55: jednotka | B55: organizace | C55: činnosti | D55: Rozpočtová skladba (oddíl, §) | E55: rozpočet | F55: po změnách (RZ) | G55: k | H55: k SR | I55: k RZ
A56: (ORJ) | B56: (ORG) | E56: na rok 2019 | F56: =Kap.01!F14 -> k 31.12.2019 | G56: =Kap.01!G14 -> 43830 | H56: v % | I56: v %
B57: 115 | C57: MŠ Štěpničná | D57: 3111 - předškolní zařízení | E57: 1149 | F57: =1149+535.6 -> 1684.6 | G57: 1685 | H57: =G57/E57*100 -> 146.64926 | I57: =G57/F57*100 -> 100.02374
C58: z toho: příspěvek na energie vč. platů topičů, vodné a stočné | E58: 645 | F58: 645 | G58: 645 | H58: =G58/E58*100 -> 100 | I58: =G58/F58*100 -> 100
C59: odpisy | E59: 82 | F59: 82 | G59: 82 | H59: =G59/E59*100 -> 100 | I59: =G59/F59*100 -> 100
B60: 116 | C60: MŠ Libčická | D60: 3111 - předškolní zařízení | E60: 1970 | F60: =2000+910.9 -> 2910.9 | G60: 2911 | H60: =G60/E60*100 -> 147.7665 | I60: =G60/F60*100 -> 100.00344
C61: z toho: příspěvek na energie vč. platů topičů, vodné a stočné | E61: 942 | F61: 942 | G61: 942 | H61: =G61/E61*100 -> 100 | I61: =G61/F61*100 -> 100
C62: odpisy | E62: 90 | F62: 90 | G62: 90 | H62: =G62/E62*100 -> 100 | I62: =G62/F62*100 -> 100
C63: anomálie, dvě budovy | E63: 200 | F63: 200 | G63: 200 | H63: =G63/E63*100 -> 100 | I63: =G63/F63*100 -> 100
B64: 117 | C64: MŠ Řešovská | D64: 3111 - předškolní zařízení | E64: 1561 | F64: =1581+612.8+42 -> 2235.8 | G64: 2236 | H64: =G64/E64*100 -> 143.24151 | I64: =G64/F64*100 -> 100.00895
C65: z toho: příspěvek na energie vč. platů topičů, vodné a stočné | E65: 920 | F65: 920 | G65: 920 | H65: =G65/E65*100 -> 100 | I65: =G65/F65*100 -> 100
C66: odpisy | E66: 113 | F66: 113 | G66: 113 | H66: =G66/E66*100 -> 100 | I66: =G66/F66*100 -> 100
B67: 118 | C67: MŠ Na Korábě | D67: 3111 - předškolní zařízení | E67: 1450 | F67: =1405+595.9 -> 2000.9 | G67: 2001 | H67: =G67/E67*100 -> 138 | I67: =G67/F67*100 -> 100.005
C68: z toho: příspěvek na energie vč. platů topičů, vodné a stočné | E68: 560 | F68: 560 | G68: 560 | H68: =G68/E68*100 -> 100 | I68: =G68/F68*100 -> 100
C69: anomálie, dvě budovy | E69: 250 | F69: 250 | G69: 250 | H69: =G69/E69*100 -> 100 | I69: =G69/F69*100 -> 100
C70: odpisy | E70: 111 | F70: 111 | G70: 111 | H70: =G70/E70*100 -> 100 | I70: =G70/F70*100 -> 100
B71: 119 | C71: MŠ Krynická | D71: 3111 - předškolní zařízení | E71: 2791 | F71: =2691+1016 -> 3707 | G71: =F71 -> 3707 | H71: =G71/E71*100 -> 132.81978 | I71: =G71/F71*100 -> 100
C72: z toho: příspěvek na energie vč. platů topičů, vodné a stočné | E72: 1172 | F72: 1172 | G72: 1172 | H72: =G72/E72*100 -> 100 | I72: =G72/F72*100 -> 100
C73: odpisy | E73: 774 | F73: 774 | G73: 774 | H73: =G73/E73*100 -> 100 | I73: =G73/F73*100 -> 100
A75: 0414 | C75: ZŠ s právní subjektivitou | E75: =E76+E80+E84+E88+E92+E98+E102+E112+E116+E120+E124+E129+E133+E137+E141 -> 99077 | F75: =F76+F80+F84+F88+F92+F98+F102+F112+F116+F120+F124+F129+F133+F137+F141 -> 173108.7 | G75: =G76+G80+G84+G88+G92+G98+G102+G112+G116+G120+G124+G129+G133+G137+G141 -> 170117 | H75: =G75/E75*100 -> 171.70181 | I75: =G75/F75*100 -> 98.27178
B76: 201 | C76: ZŠ Libčická | D76: 3113 - základní školy | E76: 7150 | F76: =6675.5+1736.9+1256.2 -> 9668.6 | G76: 9669 | H76: =G76/E76*100 -> 135.23077 | I76: =G76/F76*100 -> 100.00414
C77: z toho: příspěvek na energie vč. platů topičů vodné a stočné | E77: 2926 | F77: 2926 | G77: 2926 | H77: =G77/E77*100 -> 100 | I77: =G77/F77*100 -> 100
C78: primární prevence | E78: 66 | F78: 66 | G78: 66 | H78: =G78/E78*100 -> 100 | I78: =G78/F78*100 -> 100
C79: odpisy | E79: 2589 | F79: 2589 | G79: 2589 | H79: =G79/E79*100 -> 100 | I79: =G79/F79*100 -> 100
B80: 202 | C80: ZŠ a MŠ U Školské zahrady | D80: 3113 - základní školy | E80: 3956 | F80: =4373.5+2005.4+2116.7 -> 8495.6 | G80: 8496 | H80: =G80/E80*100 -> 214.76239 | I80: =G80/F80*100 -> 100.00471
C81: z toho: příspěvek na energie vč. platů topičů vodné a stočné | E81: 1913 | F81: 1913 | G81: 1913 | H81: =G81/E81*100 -> 100 | I81: =G81/F81*100 -> 100
C82: primární prevence | E82: 62 | F82: 62 | G82: 62 | H82: =G82/E82*100 -> 100 | I82: =G82/F82*100 -> 100
C83: odpisy | E83: 202 | F83: 202 | G83: 202 | H83: =G83/E83*100 -> 100 | I83: =G83/F83*100 -> 100
B84: 203 | C84: ZŠ Na Šutce | D84: 3113 - základní školy | E84: 4861 | F84: =5846.5+139.2+2107.5+283.7+709.9+2016.4 -> 11103.2 | G84: 10425 | H84: =G84/E84*100 -> 214.46204 | I84: =G84/F84*100 -> 93.891851
C85: z toho: příspěvek na energie vč. platů topičů vodné a stočné | E85: 1856 | F85: 1856 | G85: 1856 | H85: =G85/E85*100 -> 100 | I85: =G85/F85*100 -> 100
C86: primární prevence | E86: 80 | F86: 80 | G86: 80 | H86: =G86/E86*100 -> 100 | I86: =G86/F86*100 -> 100
C87: odpisy | E87: 877 | F87: 877 | G87: 877 | H87: =G87/E87*100 -> 100 | I87: =G87/F87*100 -> 100
B88: 204 | C88: ZŠ a MŠ Petra Strozziho | D88: 3113 - základní školy | E88: 4214 | F88: =4675.5+139.2+1834.3+130.7 -> 6779.7 | G88: 6773 | H88: =G88/E88*100 -> 160.72615 | I88: =G88/F88*100 -> 99.901176
C89: z toho: příspěvek na energie vč. platů topičů vodné a stočné | E89: 1933 | F89: 1933 | G89: 1933 | H89: =G89/E89*100 -> 100 | I89: =G89/F89*100 -> 100
C90: primární prevence | E90: 59 | F90: 59 | G90: 59 | H90: =G90/E90*100 -> 100 | I90: =G90/F90*100 -> 100
C91: odpisy | E91: 700 | F91: 700 | G91: 700 | H91: =G91/E91*100 -> 100 | I91: =G91/F91*100 -> 100
B92: 206 | C92: ZŠ a MŠ Lyčkovo nám. | D92: 3113 - základní školy | E92: 14868 | F92: =14513+4654.7+139.9+1159.4+618.4+2008.8 -> 23094.2 | G92: =12753+4655+112+1159+618+2009 -> 21306 | H92: =G92/E92*100 -> 143.30105 | I92: =G92/F92*100 -> 92.25693
C93: z toho: příspěvek na energie vč. platů topičů vodné a stočné | E93: 2553 | F93: 2553 | G93: 2553 | H93: =G93/E93*100 -> 100 | I93: =G93/F93*100 -> 100
C94: primární prevence | E94: 97 | F94: 97 | G94: 97 | H94: =G94/E94*100 -> 100 | I94: =G94/F94*100 -> 100
C95: odpisy | E95: 553 | F95: 553 | G95: 553 | H95: =G95/E95*100 -> 100 | I95: =G95/F95*100 -> 100
C96: náklady na stravování žáků | E96: 1000 | F96: 1000 | G96: 1000 | H96: =G96/E96*100 -> 100 | I96: =G96/F96*100 -> 100
C97: vybavení objektu Pernerova | E97: 7260 | F97: 7260 | G97: 7260 | H97: =G97/E97*100 -> 100 | I97: =G97/F97*100 -> 100
B98: 207 | C98: ZŠ Palmovka | D98: 3113 - základní školy | E98: 3359 | F98: =3658.1+139.2+1264.6+1193.2+890.8 -> 7145.9 | G98: =3658+139+1265+1193+508 -> 6763 | H98: =G98/E98*100 -> 201.33968 | I98: =G98/F98*100 -> 94.641683
C99: z toho: příspěvek na energie vč. platů topičů vodné a stočné | E99: 1553 | F99: 1553 | G99: 1553 | H99: =G99/E99*100 -> 100 | I99: =G99/F99*100 -> 100
C100: primární prevence | E100: 45 | F100: 45 | G100: 45 | H100: =G100/E100*100 -> 100 | I100: =G100/F100*100 -> 100
C101: odpisy | E101: 789 | F101: 789 | G101: 789 | H101: =G101/E101*100 -> 100 | I101: =G101/F101*100 -> 100
B102: 208 | C102: ZŠ a MŠ "Na Slovance" | D102: 3113 - základní školy | E102: 5408 | F102: =6611.1+2947.1 -> 9558.2 | G102: 9558 | H102: =G102/E102*100 -> 176.73817 | I102: =G102/F102*100 -> 99.997908
C103: z toho: příspěvek na energie vč. platů topičů vodné a stočné | E103: 2301 | F103: 2301 | G103: =(F103*0.75) -> 1725.75 | H103: =G103/E103*100 -> 75 | I103: =G103/F103*100 -> 75
C104: primární prevence | E104: 87 | F104: 87 | G104: =(F104*0.75) -> 65.25 | H104: =G104/E104*100 -> 75 | I104: =G104/F104*100 -> 75
...

Sheet Kap. 05
A2: Kapitola 05 – zdravotnictví a sociální oblast
I3: str. 9/16
A4: Organiz. | B4: Číslo | C4: Název organizace, | E4: Schválený | F4: Rozpočet | G4: Skutečnost | H4: Plnění | I4: Plnění
A5: jednotka | B5: organizace | C5: činnosti | D5: Rozpočtová skladba (oddíl, §) | E5: rozpočet (SR) | F5: po změnách (RZ) | G5: k | H5: k SR | I5: k RZ
A6: (ORJ) | B6: (ORG) | E6: na rok 2019 | F6: =Kap.01!F14 -> k 31.12.2019 | G6: =Kap.01!G14 -> 43830 | H6: v % | I6: v %
A7: Běžné výdaje:
A8: 0524 | B8: odbor sociálních věcí ÚMČ | E8: =E9+E10 -> 100 | F8: =F9+F10+F11 -> 1592.3 | G8: =G9+G10+G11 -> 235 | H8: =G8/E8*100 -> 235 | I8: =G8/F8*100 -> 14.758525
C9: sociálně právních ochrana dětí | D9: 4329 - soc. péče a pomoc dětem a mládeži j.n. | E9: 100 | F9: 270 | G9: 218 | H9: =G9/E9*100 -> 218 | I9: =G9/F9*100 -> 80.740741
C10: pěstounská péče | D10: 4339 - ostatní sociální péče a pomoc rodině a manželství | E10: 0 | F10: 1322.3 | G10: 17 | H10: x | I10: =G10/F10*100 -> 1.2856387
A12: 0525 | B12: odbor zdravotnictví a sociálních služeb ÚMČ | E12: =E13+E14+E15+E16+E17+E19+E20+E21+E22 -> 96970 | F12: =F13+F14+F15+F16+F17+F19+F20+F21+F22 -> 116583.3 | G12: =SUM(G13:G22) -> 116087 | H12: =G12/E12*100 -> 119.71434 | I12: =G12/F12*100 -> 99.574296
B13: 504 | C13: sociální oblast | D13: 4349 - ost. soc. péče a pomoc ost. skupinám obyvatel. | E13: 250 | F13: 450 | G13: 251 | H13: =G13/E13*100 -> 100.4 | I13: =G13/F13*100 -> 55.777778
B14: 503 | C14: zdravotnictví | D14: 4349 - ost. soc. péče a pomoc ost. skupinám obyvatel. | E14: 150 | F14: 150 | G14: 64 | H14: =G14/E14*100 -> 42.666667 | I14: =G14/F14*100 -> 42.666667
C15: protidrogová prevence | D15: 3541 - prevence před drogami | E15: 330 | F15: 430 | G15: 225 | H15: =G15/E15*100 -> 68.181818 | I15: =G15/F15*100 -> 52.325581
C16: příspěvek - nemoci z povolání | D16: 3511 - všeobecná ambulantní péče | E16: 8 | F16: 8 | G16: 7 | H16: =G16/E16*100 -> 87.5 | I16: =G16/F16*100 -> 87.5
C17: Gerontologické centrum, Praha 8 (GC) | D17: 3523 - odborné léčebné ústavy | E17: 22751 | F17: 26057 | G17: 26057 | H17: =G17/E17*100 -> 114.53123 | I17: =G17/F17*100 -> 100
B18: 501 | C18: vč."ošetřovatelského domu" (Benákova 6, Kobylisy)
B19: 502 | C19: Sociální a ošetřovatelské služby (SOS) v Praze 8 | D19: 4351 - osobní asistence, pečovatelská služba a podpora samostatného bydlení | E19: 73000 | F19: 87193 | G19: 87193 | H19: =G19/E19*100 -> 119.44247 | I19: =G19/F19*100 -> 100
C20: neinvestiční transfery spolkům | D20: 4351 - osobní asistence, pečovatelská služba a podpora samostatného bydlení | E20: 1 | F20: 1501 | G20: 1500 | H20: =G20/E20*100 -> 150000 | I20: =G20/F20*100 -> 99.933378
C21: terénní programy | D21: 4378 - terénní programy | E21: 480 | F21: 310 | G21: 306 | H21: =G21/E21*100 -> 63.75 | I21: =G21/F21*100 -> 98.709677
C22: Obec přátelská seniorům | D22: 4349 - ost. soc. péče a pomoc ost. skupinám obyvatel. | E22: 0 | F22: 484.3 | G22: 484 | H22: x | I22: =G22/F22*100 -> 99.938055
A23: Běžné výdaje celkem | E23: =E8+E12 -> 97070 | F23: =F8+F12 -> 118175.6 | G23: =G8+G12 -> 116322 | H23: =G23/E23*100 -> 119.83311 | I23: =G23/F23*100 -> 98.431487
A26: Organiz. | B26: Číslo | C26: Název organizace, | E26: Schválený | F26: Rozpočet | G26: Skutečnost | H26: Plnění | I26: Plnění
A27: jednotka | B27: organizace | C27: činnosti | D27: Rozpočtová skladba (oddíl, §) | E27: rozpočet (SR) | F27: po změnách (RZ) | G27: k | H27: k SR | I27: k RZ
A28: (ORJ) | B28: (ORG) | E28: na rok 2019 | F28: =Kap.01!F14 -> k 31.12.2019 | G28: =Kap.01!G14 -> 43830 | H28: v % | I28: v %
A29: Kapitálové výdaje:
A30: 0504 | B30: odbor správy majetku ÚMČ | E30: =SUM(E31:E34) -> 0 | F30: =SUM(F31) -> 18334.6 | G30: =SUM(G31) -> 17662 | H30: x | I30: =G30/F30*100 -> 96.331526
C31: PD na zkapacitnění a rekonstrukci obj. polikliniky Mazurská | D31: 3539 - ostatní zdravotnická zařízení a služby pro zdravot. | E31: 0 | F31: 18334.6 | G31: 17662 | H31: x | I31: =G31/F31*100 -> 96.331526
A33: 0525 | B33: odbor zdravotnictví a sociálních služeb ÚMČ | E33: =E34 -> 0 | F33: =F34 -> 170 | G33: =G34 -> 170 | H33: x | I33: =I34 -> 100
C34: Pořízení mobilního zázemí pro terénní sociální službu | D34: 4378 - terénní programy | E34: 0 | F34: 170 | G34: 170 | H34: x | I34: =G34/F34*100 -> 100
A35: Kapitálové výdaje celkem | E35: =E30 -> 0 | F35: =F30+F33 -> 18504.6 | G35: =G30+G33 -> 17832 | H35: x | I35: =G35/F35*100 -> 96.365228
A37: Kapitola 05 - zdravotnictví a sociální oblast celkem | E37: =E23+E35 -> 97070 | F37: =F23+F35 -> 136680.2 | G37: =G23+G35 -> 134154 | H37: =G37/E37*100 -> 138.20336 | I37: =G37/F37*100 -> 98.151744

Sheet Kap. 06
A2: Kapitola 06 – kultura a cestovní ruch
I3: str. 10/16
A4: Organiz. | B4: Číslo | C4: Název organizace, | E4: Schválený | F4: Rozpočet | G4: Skutečnost | H4: Plnění | I4: Plnění
A5: jednotka | B5: organizace | C5: činnosti | D5: Rozpočtová skladba (oddíl, §) | E5: rozpočet (SR) | F5: po změnách (RZ) | G5: k | H5: k SR | I5: k RZ
A6: (ORJ) | B6: (ORG) | E6: na rok 2019 | F6: =Kap.01!F14 -> k 31.12.2019 | G6: =Kap.01!G14 -> 43830 | H6: v % | I6: v %
A7: Běžné výdaje:
A8: 0617 | B8: odbor kultury, sportu, mládeže a památkové péče ÚMČ | E8: =SUM(E9:E21) -> 20470 | F8: =SUM(F9:F21) -> 21438.4 | G8: =G9+G10+G11+G12+G13+G14+G15+G16+G17+G18+G19+G20+G21 -> 21397 | H8: =G8/E8*100 -> 104.52858 | I8: =G8/F8*100 -> 99.806889
B9: 611 | C9: kulturní dům "KRAKOV" | D9: 3392 - zájmová činnost v kultuře | E9: 1000 | F9: 1450 | G9: 1440 | H9: =G9/E9*100 -> 144 | I9: =G9/F9*100 -> 99.310345
B10: 613 | C10: divadlo Karla Hackera | D10: 3311 - divadelní činnost | E10: 1000 | F10: 1150 | G10: 1141 | H10: =G10/E10*100 -> 114.1 | I10: =G10/F10*100 -> 99.217391
B11: 614 | C11: redakce měsíčníku "Osmička" | D11: 3349 - záležitosti sděl. prostředků j.n. | E11: 2900 | F11: 3425 | G11: 3424 | H11: =G11/E11*100 -> 118.06897 | I11: =G11/F11*100 -> 99.970803
B12: 616 | C12: sportovní soutěže | D12: 3421 - využití volného času dětí a mládeže | E12: 100 | F12: 380 | G12: 379 | H12: =G12/E12*100 -> 379 | I12: =G12/F12*100 -> 99.736842
C13: kulturní památky | D13: 3322 - zachování a obnova kulturních památek | E13: 20 | F13: 130.1 | G13: 130 | H13: =G13/E13*100 -> 650 | I13: =G13/F13*100 -> 99.923136
C14: občanské záležitosti (vítání občánků, zlaté svatby apod.) | D14: 3399 - záležitosti kultury, církví a sděl.prostř.j.n. | E14: 150 | F14: 144 | G14: 144 | H14: =G14/E14*100 -> 96 | I14: =G14/F14*100 -> 100
B15: 615 | C15: trhy | D15: 3399 - záležitosti kultury, církví a sděl.prostř.j.n. | E15: 300 | F15: 232.4 | G15: 232 | H15: =G15/E15*100 -> 77.333333 | I15: =G15/F15*100 -> 99.827883
C16: výstavy | D16: 3317 - výstavní činnost v kultuře | E16: 100 | F16: 159.9 | G16: 160 | H16: =G16/E16*100 -> 160 | I16: =G16/F16*100 -> 100.06254
C17: ost. kulturní činnost, vč. vedení kroniky, oslava 100 let Republiky | D17: 3319 - záležitosti kultury j.n. | E17: 2000 | F17: 3127.6 | G17: 3110 | H17: =G17/E17*100 -> 155.5 | I17: =G17/F17*100 -> 99.437268
B18: 622 | C18: využití volného času seniorů | D18: 3319 - záležitosti kultury j.n. | E18: 300 | F18: 421.7 | G18: 420 | H18: =G18/E18*100 -> 140 | I18: =G18/F18*100 -> 99.59687
B19: 618 | C19: Osmička pro rodinu | D19: 3421 - využití volného času dětí a mládeže | E19: 5000 | F19: 5600 | G19: 5600 | H19: =G19/E19*100 -> 112 | I19: =G19/F19*100 -> 100
C20: péče památkové zóny, drobná umělecká díla | D20: 3326 - poříz., zachov. a obnova hodnot místního kulturního,národ. a histor.povědomí | E20: 100 | F20: 193.8 | G20: 194 | H20: =G20/E20*100 -> 194 | I20: =G20/F20*100 -> 100.1032
B21: 623 | C21: 3 mobilní kluziště | D21: 3399 - záležitosti kultury, církví a sděl.prostř.j.n. | E21: 7500 | F21: 5023.9 | G21: 5023 | H21: =G21/E21*100 -> 66.973333 | I21: =G21/F21*100 -> 99.982086
A23: 0627 | B23: odbor evropských fondů ÚMČ | E23: 0 | F23: =SUM(F24) -> 59.9 | G23: =G24 -> 60 | H23: x | I23: =G23/F23*100 -> 100.16694
C24: Národní kulturní památka Kobyliská střelnice | D24: 3322 - zachování a obnova kulturních památek | E24: 0 | F24: 59.9 | G24: 60 | H24: x | I24: =G24/F24*100 -> 100.16694
A26: 0631 | B26: odbor kancelář starosty ÚMČ | E26: =SUM(E27:E30) -> 1415 | F26: =SUM(F27:F30) -> 1270 | G26: =SUM(G27:G30) -> 958 | H26: =G26/E26*100 -> 67.70318 | I26: =G26/F26*100 -> 75.433071
C27: monitoring tisku, tiskové konference, včetně pohoštění a prezentace Prahy 8 v médiích | D27: 3349 - záležitosti sděl.prostředků j.n. | E27: 415 | F27: 230 | G27: 89 | H27: =G27/E27*100 -> 21.445783 | I27: =G27/F27*100 -> 38.695652
B29: 620 | C29: public relations městské části Praha 8 | D29: 3349 - záležitosti sděl.prostředků j.n. | E29: 900 | F29: =60+880 -> 940 | G29: =6+834 -> 840 | H29: =G29/E29*100 -> 93.333333 | I29: =G29/F29*100 -> 89.361702
C30: propagace | D30: 3399 - záležitosti kultury, církví a sděl.prostř.j.n. | E30: 100 | F30: 100 | G30: 29 | H30: =G30/E30*100 -> 29 | I30: =G30/F30*100 -> 29
A31: Běžné výdaje celkem | E31: =E8+E26 -> 21885 | F31: =F8+F23+F26 -> 22768.3 | G31: =G8+G26+G23 -> 22415 | H31: =G31/E31*100 -> 102.42175 | I31: =G31/F31*100 -> 98.448281
A34: Organiz. | B34: Číslo | C34: Název organizace, | E34: Schválený | F34: Rozpočet | G34: Skutečnost | H34: Plnění | I34: Plnění
A35: jednotka | B35: organizace | C35: činnosti | D35: Rozpočtová skladba (oddíl, §) | E35: rozpočet (SR) | F35: po změnách (RZ) | G35: k | H35: k SR | I35: k RZ
A36: (ORJ) | B36: (ORG) | E36: na rok 2019 | F36: =Kap.01!F14 -> k 31.12.2019 | G36: =Kap.01!G14 -> 43830 | H36: v % | I36: v %
A37: Kapitálové výdaje:
A38: 0627 | B38: odbor evropských fondů ÚMČ | E38: =SUM(E39) -> 1430 | F38: =SUM(F39) -> 738.1 | G38: =SUM(G39) -> 738 | H38: =G38/E38*100 -> 51.608392 | I38: =G38/F38*100 -> 99.986452
C39: Národní kulturní památka Kobyliská střelnice (z roku 2015) | D39: 3322 - zachování a obnova kulturních památek | E39: 1430 | F39: 738.1 | G39: 738 | H39: =G39/E39*100 -> 51.608392 | I39: =G39/F39*100 -> 99.986452
A40: Kapitálové výdaje celkem | E40: =E38 -> 1430 | F40: =F38 -> 738.1 | G40: =G38 -> 738 | H40: =G40/E40*100 -> 51.608392 | I40: =G40/F40*100 -> 99.986452
A42: Kapitola 06 - kultura a cestovní ruch celkem | E42: =E31+E40 -> 23315 | F42: =F31+F40 -> 23506.4 | G42: =G31+G40 -> 23153 | H42: =G42/E42*100 -> 99.305168 | I42: =G42/F42*100 -> 98.49658

Sheet Kap. 07
A2: Kapitola 07 – bezpečnost
I3: str. 11/16
A4: Organiz. | B4: Číslo | C4: Název organizace, | E4: Schválený | F4: Rozpočet | G4: Skutečnost | H4: % plnění | I4: % plnění
A5: jednotka | B5: organizace | C5: činnosti | D5: Rozpočtová skladba (oddíl, §) | E5: rozpočet (SR) | F5: po změnách (RZ) | G5: k | H5: k SR | I5: k RZ
A6: (ORJ) | B6: (ORG) | E6: na rok 2019 | F6: =Kap.01!F14 -> k 31.12.2019 | G6: =Kap.01!G14 -> 43830
A7: Běžné výdaje:
A8: 0726 | B8: odbor bezpečnosti a krizového řízení ÚMČ | E8: =E9+E11+E17+E24 -> 351 | F8: =F9+F11+F17+F24 -> 2700.3 | G8: =G9+G11+G17+G24 -> 937 | H8: =G8/E8*100 -> 266.95157 | I8: =G8/F8*100 -> 34.699848
B9: 700 | C9: povodňová komise (zvláštní orgán MČ Praha 8) | D9: 5212 - ochrana obyvatelstva | E9: 50 | F9: 50 | G9: 0 | H9: =G9/E9*100 -> 0 | I9: =G9/F9*100 -> 0
C11: činnost odboru | D11: 5212 - ochrana obyvatelstva | E11: =SUM(E12:E15) -> 200 | F11: =SUM(F12:F15) -> 200 | G11: =SUM(G12:G15) -> 79 | H11: =G11/E11*100 -> 39.5 | I11: =G11/F11*100 -> 39.5
D12: pol. 5137 - drobný hmotný dlouhodobý majetek | E12: 0 | F12: 33 | G12: 32 | H12: x | I12: =G12/F12*100 -> 96.969697
D13: pol. 5139 - nákup materiálu j.n. | E13: 80 | F13: 80 | G13: 14 | H13: =G13/E13*100 -> 17.5 | I13: =G13/F13*100 -> 17.5
D14: pol. 5169 - nákup služeb j.n. | E14: 100 | F14: 67 | G14: 33 | H14: =G14/E14*100 -> 33 | I14: =G14/F14*100 -> 49.253731
D15: pol. 5171 - opravy a udržování | E15: 20 | F15: 20 | G15: 0 | H15: =G15/E15*100 -> 0 | I15: =G15/F15*100 -> 0
D17: 5311 - bezpečnost a veřejný pořádek | E17: =SUM(E18:E22) -> 101 | F17: =SUM(F18:F22) -> 950.3 | G17: =SUM(G18:G22) -> 858 | H17: =G17/E17*100 -> 849.50495 | I17: =G17/F17*100 -> 90.287278
C18: telefonní paušály, Městská policie HMP | D18: pol. 5162 - služby telekomunikací a radiokomunikací | E18: 50 | F18: 50 | G18: 11 | H18: =G18/E18*100 -> 22 | I18: =G18/F18*100 -> 22
C19: dotace SDH | D19: pol. 5132 - ochranné pomůcky | E19: 0 | F19: 849.3 | G19: 837 | H19: x | I19: =G19/F19*100 -> 98.551748
C20: JDH (jednotka dobrovolných hasičů) | D20: pol. 5194 - věcné dary | E20: 1 | F20: 1 | G20: 0 | H20: =G20/E20*100 -> 0 | I20: =G20/F20*100 -> 0
C21: dary obyvatelstvu | D21: pol. 5492 - dary obyvatelstvu | E21: 0 | F21: 10 | G21: 10 | H21: x | I21: =G21/F21*100 -> 100
C22: odstranění sloupů hlásné služby | D22: pol. 5169 - nákup služeb j.n. | E22: 50 | F22: 40 | G22: 0 | H22: =G22/E22*100 -> 0 | I22: =G22/F22*100 -> 0
D24: 6330 - převody vlastním fondům | E24: =E25 -> 0 | F24: =F25 -> 1500 | G24: =G25 -> 0 | H24: x | I24: =G24/F24*100 -> 0
C25: převody mezi statutárními městy a jejich městskými obvody | D25: pol. 5347 - převody mezi statut.městy a MO | E25: 0 | F25: 1500 | G25: 0 | H25: x | I25: =G25/F25*100 -> 0
A26: Běžné výdaje celkem | E26: =E8 -> 351 | F26: =F8 -> 2700.3 | G26: =G8 -> 937 | H26: =G26/E26*100 -> 266.95157 | I26: =G26/F26*100 -> 34.699848
A28: Organiz. | B28: Číslo | C28: Název organizace, | E28: Schválený | F28: Rozpočet | G28: Skutečnost | H28: % plnění | I28: % plnění
A29: jednotka | B29: organizace | C29: činnosti | D29: Rozpočtová skladba (oddíl, §) | E29: rozpočet (SR) | F29: po změnách (RZ) | G29: k | H29: k SR | I29: k RZ
A30: (ORJ) | B30: (ORG) | E30: na rok 2019 | F30: =Kap.01!F14 -> k 31.12.2019 | G30: =Kap.01!G14 -> 43830
A31: Kapitálové výdaje:
A32: 0711 | B32: odbor informatiky ÚMČ | E32: =SUM(E33) -> 0 | F32: =SUM(F33) -> 1788.3 | G32: =SUM(G33) -> 1788 | H32: x | I32: =G32/F32*100 -> 99.983224
C33: Rozvoj MKS, Integrace LKS do MKS | D33: 5311 - bezpečnost a veřejný pořádek | E33: 0 | F33: 1788.3 | G33: 1788 | H33: x | I33: =G33/F33*100 -> 99.983224
A35: 0726 | B35: odbor bezpečnosti a krizového řízení ÚMČ | E35: =SUM(E37) -> 0 | F35: =SUM(F36+F37) -> 1680.8 | G35: =SUM(G37) -> 180 | H35: x | I35: =G35/F35*100 -> 10.709186
C36: Rekonstrukce služebny MP, Ďáblická 339/14 | D36: 5311 - bezpečnost a veřejný pořádek | E36: 0 | F36: 1500 | G36: 0 | H36: x | I36: 0
C37: SDH - 4 dýchací přístroje | D37: 5311 - bezpečnost a veřejný pořádek | E37: 0 | F37: 180.8 | G37: 180 | H37: x | I37: =G37/F37*100 -> 99.557522
A38: Kapitálové výdaje celkem | E38: =E32+E35 -> 0 | F38: =F32+F35 -> 3469.1 | G38: =G32+G35 -> 1968 | H38: x | I38: =G38/F38*100 -> 56.729411
A40: Kapitola 07 - bezpečnost celkem | E40: =E26+E38 -> 351 | F40: =F26+F38 -> 6169.4 | G40: =G26+G38 -> 2905 | H40: =G40/E40*100 -> 827.63533 | I40: =G40/F40*100 -> 47.087237

Sheet Kap. 08
A2: Kapitola 08 – hospodářství
I3: str. 12/16
A4: Organiz. | B4: Číslo | C4: Název organizace, | E4: Schválený | F4: Rozpočet | G4: Skutečnost | H4: % plnění | I4: % plnění
A5: jednotka | B5: organizace | C5: činnosti | D5: Rozpočtová skladba (oddíl, §) | E5: rozpočet (SR) | F5: po změnách (RZ) | G5: k | H5: k SR | I5: k RZ
A6: (ORJ) | B6: (ORG) | E6: na rok 2019 | F6: =Kap.01!F14 -> k 31.12.2019 | G6: =Kap.01!G14 -> 43830
A7: Běžné výdaje:
A8: 0804 | B8: odbor správy majetku ÚMČ | E8: =SUM(E9:E16) -> 11980 | F8: =SUM(F9:F16) -> 15845 | G8: =SUM(G9:G16) -> 14658 | H8: =G8/E8*100 -> 122.35392 | I8: =G8/F8*100 -> 92.508678
C9: nebytové hospodářství | D9: 3613 - nebytové hospodářství | E9: 0 | F9: 190 | G9: 180 | H9: x | I9: =G9/F9*100 -> 94.736842
C10: činnost odboru | D10: 3639 - komunální služby a územní rozvoj j. n. | E10: 2470 | F10: 3345 | G10: 2495 | H10: =G10/E10*100 -> 101.01215 | I10: =G10/F10*100 -> 74.588939
C11: pojištění | D11: 3639 - komunální služby a územní rozvoj j. n. | E11: 1350 | F11: 1350 | G11: 1296 | H11: =G11/E11*100 -> 96 | I11: =G11/F11*100 -> 96
C12: konzultační a poradenská činnost | D12: 3639 - komunální služby a územní rozvoj j. n. | E12: 1200 | F12: 1670 | G12: 1670 | H12: =G12/E12*100 -> 139.16667 | I12: =G12/F12*100 -> 100
C13: správa azylových bytů | D13: 3639 - komunální služby a územní rozvoj j. n. | E13: 1460 | F13: 1460 | G13: 1452 | H13: =G13/E13*100 -> 99.452055 | I13: =G13/F13*100 -> 99.452055
C14: elektrická energie mobilní kluziště + veřejné osvětlení parkoviště Nekvasilova | D14: 3639 - komunální služby a územní rozvoj j. n. | E14: 1200 | F14: 980 | G14: 974 | H14: =G14/E14*100 -> 81.166667 | I14: =G14/F14*100 -> 99.387755
C15: Nová Palmovka BV (BOZP, odměna OSMS a.s.) | D15: 3639 - komunální služby a územní rozvoj j. n. | E15: 3600 | F15: 3600 | G15: 3412 | H15: =G15/E15*100 -> 94.777778 | I15: =G15/F15*100 -> 94.777778
C16: Nová Palmovka - právní služby | D16: 3639 - komunální služby a územní rozvoj j. n. | E16: 700 | F16: 3250 | G16: 3179 | H16: =G16/E16*100 -> 454.14286 | I16: =G16/F16*100 -> 97.815385
A18: 0824 | B18: odbor sociálních věcí ÚMČ | E18: =E19 -> 450 | F18: =F19 -> 650 | G18: =G19 -> 412 | H18: =G18/E18*100 -> 91.555556 | I18: =G18/F18*100 -> 63.384615
C19: sociální pohřby | D19: 3632 - pohřebnictví | E19: 450 | F19: 650 | G19: 412 | H19: =G19/E19*100 -> 91.555556 | I19: =G19/F19*100 -> 63.384615
A20: Běžné výdaje celkem | E20: =E18+E8 -> 12430 | F20: =F18+F8 -> 16495 | G20: =G18+G8 -> 15070 | H20: =G20/E20*100 -> 121.23894 | I20: =G20/F20*100 -> 91.361018
A23: Organiz. | B23: Číslo | C23: Název organizace, | E23: Schválený | F23: Rozpočet | G23: Skutečnost | H23: % plnění | I23: % plnění
A24: jednotka | B24: organizace | C24: činnosti | D24: Rozpočtová skladba (oddíl, §) | E24: rozpočet (SR) | F24: po změnách (RZ) | G24: k | H24: k SR | I24: k RZ
A25: (ORJ) | B25: (ORG) | E25: na rok 2019 | F25: =Kap.01!F14 -> k 31.12.2019 | G25: =Kap.01!G14 -> 43830
A26: Kapitálové výdaje:
A27: 0804 | B27: odbor správy majetku ÚMČ | E27: =SUM(E28:E43) -> 38797 | F27: =SUM(F28:F43) -> 111306.2 | G27: =SUM(G28:G43) -> 40022 | H27: =G27/E27*100 -> 103.15746 | I27: =G27/F27*100 -> 35.956667
C28: Výstavba budovy Nová Palmovka | D28: 3639 - komunální služby a úz. rozvoj | E28: 6000 | F28: 78656 | G28: 19810 | H28: =G28/E28*100 -> 330.16667 | I28: =G28/F28*100 -> 25.185618
C29: PD na rekonstrukci vnitrobloku Kolpingova domu (dofakturace dle SoD) + projektová příprava | D29: 3639 - komunální služby a úz. rozvoj | E29: 85 | F29: 1585 | G29: 907 | H29: =G29/E29*100 -> 1067.0588 | I29: =G29/F29*100 -> 57.223975
C30: Výstavba rodinného centra Kobylisy | D30: 3613 - nebytové hospodářství | E30: 10000 | F30: 12000 | G30: 11871 | H30: =G30/E30*100 -> 118.71 | I30: =G30/F30*100 -> 98.925
C31: Rekonstrukce divadla Karla Hackera - PD | D31: 3613 - nebytové hospodářství | E31: 182 | F31: 182 | G31: 0 | H31: =G31/E31*100 -> 0 | I31: =G31/F31*100 -> 0
C32: Rekonstrukce ploch u NP Nekvasilova | D32: 3639 - komunální služby a úz. rozvoj | E32: 6134 | F32: 212 | G32: 194 | H32: =G32/E32*100 -> 3.1626997 | I32: =G32/F32*100 -> 91.509434
C33: Rekonstrukce NP z lékárny na ordinace Dr. V Holého | D33: 3639 - komunální služby a úz. rozvoj | E33: 3450 | F33: 3450 | G33: 2558 | H33: =G33/E33*100 -> 74.144928 | I33: =G33/F33*100 -> 74.144928
C34: Stavení úpravy NP Karlínské nám. 22 | D34: 3613 - nebytové hospodářství | E34: 3100 | F34: 2628.2 | G34: 2628 | H34: =G34/E34*100 -> 84.774194 | I34: =G34/F34*100 -> 99.99239
C35: Rekonstrukce NP č.505 Sokolovská 46 | D35: 3613 - nebytové hospodářství | E35: 2201 | F35: 2201 | G35: 266 | H35: =G35/E35*100 -> 12.085416 | I35: =G35/F35*100 -> 12.085416
C36: Rekonstrukce NP č. 504 Sokolovská 46 | D36: 3613 - nebytové hospodářství | E36: 2145 | F36: 2015 | G36: 0 | H36: =G36/E36*100 -> 0 | I36: =G36/F36*100 -> 0
C37: Rekonstrukce horizontální kanalizace Mazurská | D37: 3639 - komunální služby a úz. rozvoj | E37: 5500 | F37: 0 | G37: 0 | H37: =G37/E37*100 -> 0 | I37: x
C38: Pořízení nového kotle do NP č. 501, Sokolovská 99 | D38: 3639 - komunální služby a úz. rozvoj | E38: 0 | F38: 258.5 | G38: 258 | H38: x | I38: =G38/F38*100 -> 99.806576
C39: Nákup majetkových podílů | D39: 3639 - komunální služby a úz. rozvoj | E39: 0 | F39: 1200 | G39: 1150 | H39: x | I39: =G39/F39*100 -> 95.833333
C40: Technické zhodnocení NP č. 108, Čimická 780 | D40: 3639 - komunální služby a úz. rozvoj | E40: 0 | F40: 78.5 | G40: 78 | H40: x | I40: =G40/F40*100 -> 99.363057
C41: Rekonstrukce podlah v poliklinice Mazurská | D41: 3639 - komunální služby a úz. rozvoj | E41: 0 | F41: 6185 | G41: 0 | H41: x | I41: =G41/F41*100 -> 0
C42: Centrum hygienické péče Burešova 12 | D42: 3613 - nebytové hospodářství | E42: 0 | F42: 350 | G42: 0 | H42: x | I42: =G42/F42*100 -> 0
C43: Poření oplocení budovy Nová Palmovka | D43: 3639 - komunální služby a úz. rozvoj | E43: 0 | F43: 305 | G43: 302 | H43: x | I43: =G43/F43*100 -> 99.016393
A44: Kapitálové výdaje celkem | E44: =E27 -> 38797 | F44: =F27 -> 111306.2 | G44: =G27 -> 40022 | H44: =G44/E44*100 -> 103.15746 | I44: =G44/F44*100 -> 35.956667
A46: Kapitola 08 - hospodářství celkem | E46: =E20+E44 -> 51227 | F46: =F20+F44 -> 127801.2 | G46: =G20+G44 -> 55092 | H46: =G46/E46*100 -> 107.54485 | I46: =G46/F46*100 -> 43.107576

Sheet Kap. 09
A2: Kapitola 09 – vnitřní správa
I3: str. 13/16
A4: Organiz. | B4: Číslo | C4: Název organizace, | E4: Schválený | F4: Rozpočet | G4: Skutečnost | H4: % plnění | I4: % plnění
A5: jednotka | B5: organizace | C5: činnosti | D5: Rozpočtová skladba (oddíl, §) | E5: rozpočet (SR) | F5: po změnách (RZ) | G5: k | H5: k SR | I5: k RZ
A6: (ORJ) | B6: (ORG) | E6: na rok 2019 | F6: =Kap.01!F14 -> k 31.12.2019 | G6: =Kap.01!G14 -> 43830
A7: Běžné výdaje:
A8: 0901 | B8: odbor kancelář tajemníka ÚMČ | E8: =E9+E29+E38+E40 -> 255768 | F8: =F9+F29+F38+F40 -> 278126.8 | G8: =G9+G29+G38+G40 -> 236483 | H8: =G8/E8*100 -> 92.459964 | I8: =G8/F8*100 -> 85.027045
D9: 6171 - činnost místní správy | E9: =SUM(E10:E27) -> 235586 | F9: =SUM(F10:F27) -> 254801.5 | G9: =SUM(G10:G27) -> 215198 | H9: =G9/E9*100 -> 91.345835 | I9: =G9/F9*100 -> 84.457117
D10: pol. 5011 - platy zaměstnanců | E10: 157000 | F10: 171888.3 | G10: 145764 | H10: =G10/E10*100 -> 92.843312 | I10: =G10/F10*100 -> 84.801583
D11: pol. 5021 - ostatní osobní výdaje | E11: 11000 | F11: 10685 | G11: 7570 | H11: =G11/E11*100 -> 68.818182 | I11: =G11/F11*100 -> 70.846982
B12: 55 | C12: Fond zaměstnavatele (UZ 00810) | D12: pol. 5499 - ostatní neinv.transfery (jubilea) | E12: 320 | F12: 320 | G12: 232 | H12: =G12/E12*100 -> 72.5 | I12: =G12/F12*100 -> 72.5
D13: pol. 5024 - odstupné | E13: 3000 | F13: 4000 | G13: 3506 | H13: =G13/E13*100 -> 116.86667 | I13: =G13/F13*100 -> 87.65
D14: pol. 5031 - povinné pojistné na sociální zabezpečení | E14: 40400 | F14: 43162.1 | G14: 37648 | H14: =G14/E14*100 -> 93.188119 | I14: =G14/F14*100 -> 87.224672
D15: pol. 5424 - náhrady mezd v době nemoci | E15: 600 | F15: 960.7 | G15: 804 | H15: =G15/E15*100 -> 134 | I15: =G15/F15*100 -> 83.688977
D16: pol. 5032 - povinné pojistné na zdravotní pojištění | E16: 14171 | F16: 15173 | G16: 13684 | H16: =G16/E16*100 -> 96.563404 | I16: =G16/F16*100 -> 90.186516
D17: pol. 5038 - ost.povinné pojistné hrazené zaměstnavatelem | E17: 740 | F17: 740 | G17: 684 | H17: =G17/E17*100 -> 92.432432 | I17: =G17/F17*100 -> 92.432432
D18: pol. 5167 - služby školení a vzdělávání | E18: 3000 | F18: 3500 | G18: 2086 | H18: =G18/E18*100 -> 69.533333 | I18: =G18/F18*100 -> 59.6
D19: pol. 5195 - odvody za neplnění povinnosti zaměstnávat | E19: 400 | F19: 365 | H19: =G20/E19*100 -> 91.25 | I19: =G20/F19*100 -> 100
D20: zdravotně postižené | G20: 365
C21: Fond zaměstnavatele (UZ 00810) | D21: pol. 5169 - nákup služeb j.n.(očkování) | E21: 100 | F21: 100 | G21: 56 | H21: =G21/E21*100 -> 56 | I21: =G21/F21*100 -> 56
D22: pol. 5169 - nákup služeb j.n. | E22: 100 | F22: 100 | G22: 0 | H22: =G22/E22*100 -> 0 | I22: =G22/F22*100 -> 0
D23: pol. 5173 - cestovné | E23: 0 | F23: 142.8 | G23: 142 | H23: x | I23: =G23/F23*100 -> 99.439776
C24: Fond zaměstnavatele (UZ 00810) | D24: pol. 5499 - ostatní neinv.transfery obyv.j.n. (os.konta) | E24: 2485 | F24: 2485 | G24: 2142 | H24: =G24/E24*100 -> 86.197183 | I24: =G24/F24*100 -> 86.197183
C25: činnost odboru | D25: pol. 5166 - konzultační, poradenské a právní služby | E25: 700 | F25: 700 | G25: 35 | H25: =G25/E25*100 -> 5 | I25: =G25/F25*100 -> 5
C27: Operační program zaměstnanost (OPZ) | D27: projekt "Osmička - úřad vstřícný rodině" | E27: 1570 | F27: 479.6 | G27: 480 | H27: =G27/E27*100 -> 30.573248 | I27: =G27/F27*100 -> 100.0834
D29: 6112 - zastupitelstva obcí | E29: =SUM(E30:E36) -> 20182 | F29: =SUM(F30:F36) -> 20242 | G29: =SUM(G30:G36) -> 19069 | H29: =G29/E29*100 -> 94.485185 | I29: =G29/F29*100 -> 94.205118
D30: pol. 5023 - odměny členů zastupitelstva | E30: 15900 | F30: 15900 | G30: 15004 | H30: =G30/E30*100 -> 94.36478 | I30: =G30/F30*100 -> 94.36478
D31: pol. 5029 - ostat.platby za proved.práci j.n. | E31: 0 | F31: 35 | G31: 31 | H31: x | I31: =G31/F31*100 -> 88.571429
D32: pol. 5031 - povinné pojistné na soc.zabezpečení | E32: 2740 | F32: 2740 | G32: 2590 | H32: =G32/E32*100 -> 94.525547 | I32: =G32/F32*100 -> 94.525547
D33: pol. 5424 - náhrady mezd v době nemoci | E33: 15 | F33: 40 | G33: 17 | H33: =G33/E33*100 -> 113.33333 | I33: =G33/F33*100 -> 42.5
D34: pol. 5032 - povinné pojistné na zdravotní pojištění | E34: 1363 | F34: 1363 | G34: 1305 | H34: =G34/E34*100 -> 95.744681 | I34: =G34/F34*100 -> 95.744681
C35: Fond zaměstnavatele (UZ 00810) | D35: pol. 5499 - ostatní neinv.transfery obyv.j.n.(os.konta) | E35: 84 | F35: 84 | G35: 43 | H35: =G35/E35*100 -> 51.190476 | I35: =G35/F35*100 -> 51.190476
B36: 58 | C36: výdaje spojené se zajišt.svateb (ORG58) | D36: pol. 5499 - ostatní neinv.transfery obyv.j.n. | E36: 80 | F36: 80 | G36: 79 | H36: =G36/E36*100 -> 98.75 | I36: =G36/F36*100 -> 98.75
D38: 6117 - volby do Evropského parlamentu | E38: 0 | F38: 3016.9 | G38: 2150 | H38: x | I38: =G38/F38*100 -> 71.265206
D40: 6149 - ostatní všeobecná vnitřní správa j. n. | E40: =E41 -> 0 | F40: =F41 -> 66.4 | G40: =G41 -> 66 | H40: x | I40: =G40/F40*100 -> 99.39759
C41: sčítání lidu, domů a bytů | D41: pol. 5021 - ostatní osobní výdaje | E41: 0 | F41: 66.4 | G41: 66 | H41: x | I41: =G41/F41*100 -> 99.39759
A42: 0927 | B42: odbor evropských fondů ÚMČ
D43: 6171 - činnost místní správy | E43: =SUM(E44:E44) -> 0 | F43: =F44 -> 3303.4 | G43: =SUM(G44:G44) -> 1436 | H43: x | I43: =G43/F43*100 -> 43.470364
C44: projekt "Osmička - úřad vstřícný rodině" | E44: 0 | F44: 3303.4 | G44: 1436 | H44: x | I44: =G44/F44*100 -> 43.470364
A46: 0906 | B46: odbor občansko-správní ÚMČ | D46: 6171 - činnost místní správy | E46: =E47+E48 -> 250 | F46: =F47+F48 -> 250 | G46: =G47+G48 -> 186 | H46: =G46/E46*100 -> 74.4 | I46: =G46/F46*100 -> 74.4
D47: pol. 5169 - nákup služeb j.n. | E47: 60 | F47: 60 | G47: 8 | H47: =G47/E47*100 -> 13.333333 | I47: =G47/F47*100 -> 13.333333
B48: 911 | C48: fotokabinky s biometrickými daty | D48: pol. 5178 - nájemné za nájem s právem koupě | E48: 190 | F48: 190 | G48: 178 | H48: =G48/E48*100 -> 93.684211 | I48: =G48/F48*100 -> 93.684211
I51: str. 14/16
A52: Organiz. | B52: Číslo | C52: Název organizace, | E52: Schválený | F52: Rozpočet | G52: Skutečnost | H52: % plnění | I52: % plnění
A53: jednotka | B53: organizace | C53: činnosti | D53: Rozpočtová skladba (oddíl, §) | E53: rozpočet (SR) | F53: po změnách (RZ) | G53: k | H53: k SR | I53: k RZ
A54: (ORJ) | B54: (ORG) | E54: na rok 2019 | F54: =Kap.01!F14 -> k 31.12.2019 | G54: =Kap.01!G14 -> 43830
A55: 0931 | B55: odbor kancelář starosty ÚMČ | E55: =E56+E59 -> 48014 | F55: =F56+F59+F86 -> 49313.4 | G55: =G56+G59+G86 -> 42722 | H55: =G55/E55*100 -> 88.978215 | I55: =G55/F55*100 -> 86.633653
D56: 6171 - činnost místní správy | E56: =E57+E58 -> 1000 | F56: =F57+F58 -> 1000 | G56: =G57+G58 -> 158 | H56: =G56/E56*100 -> 15.8 | I56: =G56/F56*100 -> 15.8
B57: 931 | D57: pol. 5166 - konzultační, poradenské a právní služby | E57: 800 | F57: 800 | G57: 39 | H57: =G57/E57*100 -> 4.875 | I57: =G57/F57*100 -> 4.875
B58: 931 | D58: pol. 5169 - nákup služeb j.n. | E58: 200 | F58: 200 | G58: 119 | H58: =G58/E58*100 -> 59.5 | I58: =G58/F58*100 -> 59.5
C59: oddělení hospodářské správy | D59: 6171 - činnost místní správy | E59: =SUM(E60:E85) -> 47014 | F59: =SUM(F60:F85) -> 47713.4 | G59: =SUM(G60:G85) -> 41989 | H59: =G59/E59*100 -> 89.311694 | I59: =G59/F59*100 -> 88.002532
D60: pol. 5134 - prádlo, oděv, obuv | E60: 15 | F60: 18 | G60: 15 | H60: =G60/E60*100 -> 100 | I60: =G60/F60*100 -> 83.333333
D61: pol. 5136 - knihy, učební pomůcky a tisk | E61: 100 | F61: 100 | G61: 75 | H61: =G61/E61*100 -> 75 | I61: =G61/F61*100 -> 75
D62: pol. 5137 - drobný hmotný majetek | E62: 600 | F62: 900 | G62: 822 | H62: =G62/E62*100 -> 137 | I62: =G62/F62*100 -> 91.333333
D63: pol. 5139 - nákup materiálu j.n. | E63: 3600 | F63: 3542 | G63: 2873 | H63: =G63/E63*100 -> 79.805556 | I63: =G63/F63*100 -> 81.112366
D64: pol. 5142 - realizované kurzovní ztráty | E64: 1 | F64: 1 | G64: 0 | H64: =G64/E64*100 -> 0 | I64: =G64/F64*100 -> 0
D65: pol. 5151 - voda | E65: 900 | F65: 929.4 | G65: 716 | H65: =G65/E65*100 -> 79.555556 | I65: =G65/F65*100 -> 77.03895
D66: pol. 5152 - pára | E66: 400 | F66: 400 | G66: 374 | H66: =G66/E66*100 -> 93.5 | I66: =G66/F66*100 -> 93.5
D67: pol. 5153 - plyn | E67: 3500 | F67: 3200 | G67: 2428 | H67: =G67/E67*100 -> 69.371429 | I67: =G67/F67*100 -> 75.875
D68: pol. 5154 - elektrická energie | E68: 4500 | F68: 4760 | G68: 3782 | H68: =G68/E68*100 -> 84.044444 | I68: =G68/F68*100 -> 79.453782
D69: pol. 5156 - pohonné hmoty a maziva | E69: 400 | F69: 470 | G69: 265 | H69: =G69/E69*100 -> 66.25 | I69: =G69/F69*100 -> 56.382979
D70: pol. 5161 - služby pošty | E70: 3800 | F70: 3830 | G70: 3416 | H70: =G70/E70*100 -> 89.894737 | I70: =G70/F70*100 -> 89.190601
D71: pol. 5162 - služby telekomunikací a radiokomunikací | E71: 900 | F71: 960 | G71: 736 | H71: =G71/E71*100 -> 81.777778 | I71: =G71/F71*100 -> 76.666667
... D74: pol. 5166 - konzultační, poradenské a právní služby | E74: 200 | F74: 200 | G74: 79 | H74: =G74/E74*100 -> 39.5 | I74: =G74/F74*100 -> 39.5
D75: pol. 5169 - nákup služeb j.n. | E75: =14000 -> 14000 | F75: 13600 | G75: 13448 | H75: =G75/E75*100 -> 96.057143 | I75: =G75/F75*100 -> 98.882353
C76: Fond zaměstnavatele (UZ 00810) | D76: pol. 5169 - nákup služeb j.n.(přísp.na strav.zaměstn.) | E76: 3000 | F76: 3000 | G76: 2511 | H76: =G76/E76*100 -> 83.7 | I76: =G76/F76*100 -> 83.7
D77: pol. 5171 - opravy a udržování | E77: 10000 | F77: 10700 | G77: 9767 | H77: =G77/E77*100 -> 97.67 | I77: =G77/F77*100 -> 91.280374
D78: pol. 5173 - cestovné | E78: 200 | F78: 200 | G78: 37 | H78: =G78/E78*100 -> 18.5 | I78: =G78/F78*100 -> 18.5
D79: pol. 5175 - pohoštění | E79: 260 | F79: 260 | G79: 202 | H79: =G79/E79*100 -> 77.692308 | I79: =G79/F79*100 -> 77.692308
D80: pol. 5179 - ostatní nákupy j.n. | E80: 5 | F80: 5 | G80: 0 | H80: =G80/E80*100 -> 0 | I80: =G80/F80*100 -> 0
C81: soudní poplatky | D81: pol. 5192 - poskytnuté neinvest. příspěvky a náhrady | E81: 30 | F81: 30 | G81: 0 | H81: =G81/E81*100 -> 0 | I81: =G81/F81*100 -> 0
D82: pol. 5194 - věcné dary | E82: 2 | F82: 2 | G82: 0 | H82: =G82/E82*100 -> 0 | I82: =G82/F82*100 -> 0
D83: pol. 5361 - nákup kolků | E83: 20 | F83: 20 | G83: 0 | H83: =G83/E83*100 -> 0 | I83: =G83/F83*100 -> 0
D84: pol. 5362 - platby daní a poplatků (dálniční známky) | E84: 30 | F84: 30 | G84: 12 | H84: =G84/E84*100 -> 40 | I84: =G84/F84*100 -> 40
D85: pol. 5909 - ostatní výdaje | E85: 1 | F85: 1 | G85: 0 | H85: =G85/E85*100 -> 0 | I85: =G85/F85*100 -> 0
C86: volby do Evrop. parlamentu | D86: 6117 - volby do Evrop. parlamentu | E86: 0 | F86: 600 | G86: 575 | H86: x | I86: =G86/F86*100 -> 95.833333
A88: 0911 | B88: odbor informatiky ÚMČ | D88: 6171 - činnost místní správy | E88: =SUM(E89:E98) -> 29200 | F88: =SUM(F89:F98) -> 27043.8 | G88: =SUM(G89:G98) -> 26835 | H88: =G88/E88*100 -> 91.900685 | I88: =G88/F88*100 -> 99.227919
B89: 911 | D89: pol. 5137 - drobný hmotný majetek | E89: 3000 | F89: 3600 | G89: 3581 | H89: =G89/E89*100 -> 119.36667 | I89: =G89/F89*100 -> 99.472222
B90: 911 | D90: pol. 5139 - nákup materiálu j.n. | E90: 300 | F90: 352 | G90: 343 | H90: =G90/E90*100 -> 114.33333 | I90: =G90/F90*100 -> 97.443182
B91: 911 | D91: pol. 5169 - nákup služeb j.n. | E91: 200 | F91: 160 | G91: 148 | H91: =G91/E91*100 -> 74 | I91: =G91/F91*100 -> 92.5
B92: 9115 | C92: kamerové systémy | D92: pol. 5154 - elektrická energie | E92: 400 | F92: 128 | G92: 124 | H92: =G92/E92*100 -> 31 | I92: =G92/F92*100 -> 96.875
B93: 911 | C93: datové linky IP VPN, Internet | D93: pol. 5162 - služby telekomunikací a radiokomunikací | E93: 4300 | F93: 4210 | G93: 4203 | H93: =G93/E93*100 -> 97.744186 | I93: =G93/F93*100 -> 99.833729
B94: 911 | C94: analytické a poradenské služby | D94: pol. 5166 - konzultační, poradenské a právní služby | E94: 200 | F94: 160 | G94: 155 | H94: =G94/E94*100 -> 77.5 | I94: =G94/F94*100 -> 96.875
B95: 911 | C95: zprac.dat a služby související s ICT | D95: pol. 5168 - zprac.dat a sl.související s info a komun.techn. | E95: 18000 | F95: 17020 | G95: 16925 | H95: =G95/E95*100 -> 94.027778 | I95: =G95/F95*100 -> 99.441833
B96: 911 | C96: opravy tiskového parku a ostatního HW | D96: pol. 5171 - opravy a udržování (hardware) | E96: 2500 | F96: 870 | G96: 840 | H96: =G96/E96*100 -> 33.6 | I96: =G96/F96*100 -> 96.551724
B97: 911 | C97: nákup SW a ostatního programového vybavení | D97: pol. 5172 - programové vybavení | E97: 300 | F97: 290 | G97: 262 | H97: =G97/E97*100 -> 87.333333 | I97: =G97/F97*100 -> 90.344828
C98: volby do Evrop. parlamentu | D98: 6117 - volby do Evrop. parlamentu | E98: 0 | F98: 253.8 | G98: 254 | H98: x | I98: =G98/F98*100 -> 100.0788
I101: str. 15/16
A102: Organiz. | B102: Číslo | C102: Název organizace, | E102: Schválený | F102: Rozpočet | G102: Skutečnost | H102: % plnění | I102: % plnění
A103: jednotka | B103: organizace | C103: činnosti | D103: Rozpočtová skladba (oddíl, §) | E103: rozpočet (SR) | F103: po změnách (RZ) | G103: k | H103: k SR | I103: k RZ
A104: (ORJ) | B104: (ORG) | E104: na rok 2019 | F104: =Kap.01!F14 -> k 31.12.2019 | G104: =Kap.01!G14 -> 43830
A105: 0922 | B105: odbor právních služeb ÚMČ | D105: 6171 - činnost místní správy | E105: =SUM(E106:E108) -> 3400 | F105: =SUM(F106:F108) -> 3745.3 | G105: =SUM(G106:G108) -> 1417 | H105: =G105/E105*100 -> 41.676471 | I105: =G105/F105*100 -> 37.834085
C106: právní služby | D106: pol. 5166 - konzultační, poradenské a právní služby | E106: 3000 | F106: 3000 | G106: 948 | H106: =G106/E106*100 -> 31.6 | I106: =G106/F106*100 -> 31.6
C107: poskytnuté náhrady | D107: pol. 5192 - poskytnuté náhrady | E107: 200 | F107: 545.3 | G107: 449 | H107: =G107/E107*100 -> 224.5 | I107: =G107/F107*100 -> 82.339996
C108: úhrady sankcí | D108: pol. 5363 - úhrady sankcí | E108: 200 | F108: 200 | G108: 20 | H108: =G108/E108*100 -> 10 | I108: =G108/F108*100 -> 10
A109: Běžné výdaje celkem | E109: =E8+E46+E55+E88+E105+E43 -> 336632 | F109: =F8+F46+F55+F88+F105+F43 -> 361782.7 | G109: =G8+G46+G55+G88+G105+G43 -> 309079 | H109: =G109/E109*100 -> 91.815098 | I109: =G109/F109*100 -> 85.432222
A113: Organiz. | B113: Číslo | C113: Název organizace, | E113: Schválený | F113: Rozpočet | G113: Skutečnost | H113: % plnění | I113: % plnění
A114: jednotka | B114: organizace | C114: činnosti | D114: Rozpočtová skladba (oddíl, §) | E114: rozpočet (SR) | F114: po změnách (RZ) | G114: k | H114: k SR | I114: k RZ
A115: (ORJ) | B115: (ORG) | E115: na rok 2019 | F115: =Kap.01!F14 -> k 31.12.2019 | G115: =Kap.01!G14 -> 43830
A116: Kapitálové výdaje:
...

Sheet Kap. 10
A2: Kapitola 10 – pokladní správa
I3: str. 16/16
A4: Organiz. | B4: Číslo | C4: Název organizace, | E4: Schválený | F4: Rozpočet | G4: Skutečnost | H4: % plnění | I4: % plnění
A5: jednotka | B5: organizace | C5: činnosti | D5: Rozpočtová skladba (oddíl, §) | E5: rozpočet (SR) | F5: po změnách (RZ) | G5: k | H5: k SR | I5: k RZ
A6: (ORJ) | B6: (ORG) | E6: na rok 2019 | F6: =Kap.01!F14 -> k 31.12.2019 | G6: =Kap.01!G14 -> 43830
A7: Běžné výdaje:
A8: 1003 | B8: ekonomický odbor ÚMČ | E8: =SUM(E9:E16) -> 250 | F8: =SUM(F9:F16) -> 109050.1 | G8: =SUM(G9:G16) -> 102897 | H8: =G8/E8*100 -> 41158.8 | I8: =G8/F8*100 -> 94.357548
C9: bankovní poplatky | D9: 6310 - obecné příjmy a výdaje z fin.operací
D10: pol. 5163 - služby peněžních ústavů | E10: 250 | F10: 250 | G10: 188 | H10: =G10/E10*100 -> 75.2 | I10: =G10/F10*100 -> 75.2
C11: finanční vypořádání | D11: 6330 - převody vl.fondů v rozpočtech úz.úrovně
D12: pol. 5347 - převody mezi MČ a hl. m. Prahou | E12: 0 | F12: 75842.3 | G12: 76095 | H12: x | I12: =G12/F12*100 -> 100.33319
D13: 6402 - finanční vypořádání minulých let
D14: pol. 5365 - platby daní a popl. krajům, obcím a st.fondům | E14: 0 | F14: 19596 | G14: 19596 | H14: x | I14: =G14/F14*100 -> 100
D15: 6409 - ostatní činnosti j. n. | E15: 0 | F15: 13361.8 | G15: 0 | H15: x | I15: =G15/F15*100 -> 0
C16: technické konto | D16: 6409 - ostatní činnosti j. n. | E16: 0 | F16: 0 | G16: 7018 | H16: x | I16: 0
A18: 1031 | B18: odbor kancelář starosty ÚMČ | E18: =E20 -> 110 | F18: =F20 -> 115 | G18: =SUM(G20:G20) -> 104 | H18: =G18/E18*100 -> 94.545455 | I18: =G18/F18*100 -> 90.434783
C19: oddělení hospodářské správy
C20: "povinné ručení" (zákonné pojištění) | D20: 6320 - pojištění funkčně nespecifikované | E20: 110 | F20: 115 | G20: 104 | H20: =G20/E20*100 -> 94.545455 | I20: =G20/F20*100 -> 90.434783
A21: Běžné výdaje celkem | E21: =E8+E18 -> 360 | F21: =F8+F18 -> 109165.1 | G21: =G8+G18 -> 103001 | H21: =G21/E21*100 -> 28611.389 | I21: =G21/F21*100 -> 94.353415
A23: Kapitola 10 - pokladní správa celkem | E23: =E21 -> 360 | F23: =F21 -> 109165.1 | G23: =G21 -> 103001 | H23: =G23/E23*100 -> 28611.389 | I23: =G23/F23*100 -> 94.353415
